Package: weaver Version: 1.72.0 Command: /Library/Frameworks/R.framework/Resources/bin/R CMD check --install=check:weaver.install-out.txt --library=/Library/Frameworks/R.framework/Resources/library --no-vignettes --timings weaver_1.72.0.tar.gz StartedAt: 2025-02-04 11:54:02 -0500 (Tue, 04 Feb 2025) EndedAt: 2025-02-04 11:54:38 -0500 (Tue, 04 Feb 2025) EllapsedTime: 35.5 seconds RetCode: 0 Status: WARNINGS CheckDir: weaver.Rcheck Warnings: 1