Package: weaver Version: 1.72.0 Command: /Library/Frameworks/R.framework/Resources/bin/R CMD INSTALL weaver StartedAt: 2025-02-03 15:52:12 -0500 (Mon, 03 Feb 2025) EndedAt: 2025-02-03 15:52:20 -0500 (Mon, 03 Feb 2025) EllapsedTime: 7.6 seconds RetCode: 0 Status: OK