Package: weaver Version: 1.72.0 Command: chmod a+r weaver -R && F:\biocbuild\bbs-3.20-bioc\R\bin\R.exe CMD build --keep-empty-dirs --no-resave-data weaver StartedAt: 2025-02-03 22:49:16 -0500 (Mon, 03 Feb 2025) EndedAt: 2025-02-03 22:49:28 -0500 (Mon, 03 Feb 2025) EllapsedTime: 11.9 seconds RetCode: 0 Status: OK PackageFile: weaver_1.72.0.tar.gz PackageFileSize: 82.21 KiB