Package: weaver Version: 1.72.0 Command: F:\biocbuild\bbs-3.20-bioc\R\bin\R.exe CMD check --no-multiarch --install=check:weaver.install-out.txt --library=F:\biocbuild\bbs-3.20-bioc\R\library --no-vignettes --timings weaver_1.72.0.tar.gz StartedAt: 2025-02-04 07:30:14 -0500 (Tue, 04 Feb 2025) EndedAt: 2025-02-04 07:30:41 -0500 (Tue, 04 Feb 2025) EllapsedTime: 27.1 seconds RetCode: 0 Status: WARNINGS CheckDir: weaver.Rcheck Warnings: 1