Package: weaver Version: 1.72.0 Command: F:\biocbuild\bbs-3.20-bioc\R\bin\R.exe CMD INSTALL weaver StartedAt: 2025-02-03 15:48:07 -0500 (Mon, 03 Feb 2025) EndedAt: 2025-02-03 15:48:17 -0500 (Mon, 03 Feb 2025) EllapsedTime: 9.7 seconds RetCode: 0 Status: OK