Package: webbioc Version: 1.78.0 Command: /Library/Frameworks/R.framework/Resources/bin/R CMD check --install=check:webbioc.install-out.txt --library=/Library/Frameworks/R.framework/Resources/library --no-vignettes --timings webbioc_1.78.0.tar.gz StartedAt: 2025-02-05 14:13:56 -0500 (Wed, 05 Feb 2025) EndedAt: 2025-02-05 14:15:38 -0500 (Wed, 05 Feb 2025) EllapsedTime: 102.4 seconds RetCode: 0 Status: OK CheckDir: webbioc.Rcheck Warnings: 0