Package: webbioc Version: 1.78.0 Command: /Library/Frameworks/R.framework/Resources/bin/R CMD INSTALL webbioc StartedAt: 2025-02-03 17:23:19 -0500 (Mon, 03 Feb 2025) EndedAt: 2025-02-03 17:23:43 -0500 (Mon, 03 Feb 2025) EllapsedTime: 23.8 seconds RetCode: 0 Status: OK