Package: webbioc Version: 1.78.0 Command: /Library/Frameworks/R.framework/Resources/bin/R CMD build --keep-empty-dirs --no-resave-data webbioc StartedAt: 2025-02-03 23:13:02 -0500 (Mon, 03 Feb 2025) EndedAt: 2025-02-03 23:14:04 -0500 (Mon, 03 Feb 2025) EllapsedTime: 61.7 seconds RetCode: 0 Status: OK PackageFile: webbioc_1.78.0.tar.gz PackageFileSize: 312.4 KiB