Package: webbioc Version: 1.78.0 Command: /home/biocbuild/bbs-3.20-bioc/R/bin/R CMD INSTALL webbioc StartedAt: 2025-02-03 15:54:55 -0500 (Mon, 03 Feb 2025) EndedAt: 2025-02-03 15:55:15 -0500 (Mon, 03 Feb 2025) EllapsedTime: 19.7 seconds RetCode: 0 Status: OK