Package: weitrix Version: 1.18.0 Command: /Library/Frameworks/R.framework/Resources/bin/R CMD build --keep-empty-dirs --no-resave-data weitrix StartedAt: 2025-02-04 10:34:22 -0500 (Tue, 04 Feb 2025) EndedAt: 2025-02-04 10:45:01 -0500 (Tue, 04 Feb 2025) EllapsedTime: 639.0 seconds RetCode: 0 Status: OK PackageFile: weitrix_1.18.0.tar.gz PackageFileSize: 8.973 MiB