Package: weitrix Version: 1.18.0 Command: /Library/Frameworks/R.framework/Resources/bin/R CMD build --keep-empty-dirs --no-resave-data weitrix StartedAt: 2025-02-03 23:13:05 -0500 (Mon, 03 Feb 2025) EndedAt: 2025-02-03 23:28:37 -0500 (Mon, 03 Feb 2025) EllapsedTime: 931.7 seconds RetCode: 0 Status: OK PackageFile: weitrix_1.18.0.tar.gz PackageFileSize: 8.966 MiB