Package: weitrix Version: 1.18.0 Command: /Library/Frameworks/R.framework/Resources/bin/R CMD INSTALL weitrix StartedAt: 2025-02-03 15:33:51 -0500 (Mon, 03 Feb 2025) EndedAt: 2025-02-03 15:34:49 -0500 (Mon, 03 Feb 2025) EllapsedTime: 58.4 seconds RetCode: 0 Status: OK