Package: weitrix Version: 1.18.0 Command: rm -rf weitrix.buildbin-libdir && mkdir weitrix.buildbin-libdir && F:\biocbuild\bbs-3.20-bioc\R\bin\R.exe CMD INSTALL --build --library=weitrix.buildbin-libdir weitrix_1.18.0.tar.gz StartedAt: 2025-02-04 09:45:50 -0500 (Tue, 04 Feb 2025) EndedAt: 2025-02-04 09:46:34 -0500 (Tue, 04 Feb 2025) EllapsedTime: 43.9 seconds RetCode: 0 Status: OK PackageFile: weitrix_1.18.0.zip PackageFileSize: 5.596 MiB