Package: weitrix Version: 1.18.0 Command: chmod a+r weitrix -R && F:\biocbuild\bbs-3.20-bioc\R\bin\R.exe CMD build --keep-empty-dirs --no-resave-data weitrix StartedAt: 2025-02-03 22:49:28 -0500 (Mon, 03 Feb 2025) EndedAt: 2025-02-03 22:59:41 -0500 (Mon, 03 Feb 2025) EllapsedTime: 612.7 seconds RetCode: 0 Status: OK PackageFile: weitrix_1.18.0.tar.gz PackageFileSize: 5.31 MiB