Package: weitrix Version: 1.18.0 Command: /home/biocbuild/R/R/bin/R CMD build --keep-empty-dirs --no-resave-data weitrix StartedAt: 2025-02-11 03:23:00 -0000 (Tue, 11 Feb 2025) EndedAt: 2025-02-11 03:36:35 -0000 (Tue, 11 Feb 2025) EllapsedTime: 815.3 seconds RetCode: 0 Status: OK PackageFile: weitrix_1.18.0.tar.gz PackageFileSize: 5.841 MiB