Package: weitrix Version: 1.18.0 Command: /home/biocbuild/R/R/bin/R CMD check --install=check:weitrix.install-out.txt --library=/home/biocbuild/R/R/site-library --no-vignettes --timings weitrix_1.18.0.tar.gz StartedAt: 2025-02-11 11:33:28 -0000 (Tue, 11 Feb 2025) EndedAt: 2025-02-11 11:40:05 -0000 (Tue, 11 Feb 2025) EllapsedTime: 397.2 seconds RetCode: 0 Status: OK CheckDir: weitrix.Rcheck Warnings: 0