Package: weitrix Version: 1.18.0 Command: /home/biocbuild/R/R/bin/R CMD INSTALL weitrix StartedAt: 2025-02-10 20:23:18 -0000 (Mon, 10 Feb 2025) EndedAt: 2025-02-10 20:23:51 -0000 (Mon, 10 Feb 2025) EllapsedTime: 33.8 seconds RetCode: 0 Status: OK