Package: widgetTools Version: 1.84.0 Command: /Library/Frameworks/R.framework/Resources/bin/R CMD build --keep-empty-dirs --no-resave-data widgetTools StartedAt: 2025-01-31 10:17:17 -0500 (Fri, 31 Jan 2025) EndedAt: 2025-01-31 10:17:31 -0500 (Fri, 31 Jan 2025) EllapsedTime: 13.7 seconds RetCode: 0 Status: OK PackageFile: widgetTools_1.84.0.tar.gz PackageFileSize: 227.3 KiB