Package: widgetTools Version: 1.84.0 Command: /Library/Frameworks/R.framework/Resources/bin/R CMD INSTALL widgetTools StartedAt: 2025-02-03 15:12:23 -0500 (Mon, 03 Feb 2025) EndedAt: 2025-02-03 15:12:34 -0500 (Mon, 03 Feb 2025) EllapsedTime: 10.9 seconds RetCode: 0 Status: OK