Package: widgetTools Version: 1.84.0 Command: chmod a+r widgetTools -R && F:\biocbuild\bbs-3.20-bioc\R\bin\R.exe CMD build --keep-empty-dirs --no-resave-data widgetTools StartedAt: 2025-02-03 22:49:30 -0500 (Mon, 03 Feb 2025) EndedAt: 2025-02-03 22:50:14 -0500 (Mon, 03 Feb 2025) EllapsedTime: 44.8 seconds RetCode: 0 Status: OK PackageFile: widgetTools_1.84.0.tar.gz PackageFileSize: 126.3 KiB