Package: widgetTools Version: 1.84.0 Command: /home/biocbuild/R/R/bin/R CMD build --keep-empty-dirs --no-resave-data widgetTools StartedAt: 2025-02-04 03:53:18 -0000 (Tue, 04 Feb 2025) EndedAt: 2025-02-04 03:53:31 -0000 (Tue, 04 Feb 2025) EllapsedTime: 13.0 seconds RetCode: 0 Status: OK PackageFile: widgetTools_1.84.0.tar.gz PackageFileSize: 222.6 KiB