Package: wpm Version: 1.16.0 Command: /Library/Frameworks/R.framework/Resources/bin/R CMD build --keep-empty-dirs --no-resave-data wpm StartedAt: 2025-02-03 23:14:02 -0500 (Mon, 03 Feb 2025) EndedAt: 2025-02-03 23:14:47 -0500 (Mon, 03 Feb 2025) EllapsedTime: 45.6 seconds RetCode: 0 Status: OK PackageFile: wpm_1.16.0.tar.gz PackageFileSize: 2.427 MiB