Package: wpm Version: 1.16.0 Command: /home/biocbuild/bbs-3.20-bioc/R/bin/R CMD check --install=check:wpm.install-out.txt --library=/home/biocbuild/bbs-3.20-bioc/R/site-library --timings wpm_1.16.0.tar.gz StartedAt: 2025-02-11 03:27:10 -0500 (Tue, 11 Feb 2025) EndedAt: 2025-02-11 03:28:19 -0500 (Tue, 11 Feb 2025) EllapsedTime: 69.0 seconds RetCode: 0 Status: OK CheckDir: wpm.Rcheck Warnings: 0