Package: wpm Version: 1.16.0 Command: /home/biocbuild/R/R/bin/R CMD INSTALL wpm StartedAt: 2025-02-03 20:57:58 -0000 (Mon, 03 Feb 2025) EndedAt: 2025-02-03 20:58:03 -0000 (Mon, 03 Feb 2025) EllapsedTime: 4.6 seconds RetCode: 0 Status: OK