Package: xcore Version: 1.10.0 Command: F:\biocbuild\bbs-3.20-bioc\R\bin\R.exe CMD check --no-multiarch --install=check:xcore.install-out.txt --library=F:\biocbuild\bbs-3.20-bioc\R\library --no-vignettes --timings xcore_1.10.0.tar.gz StartedAt: 2025-02-11 07:28:01 -0500 (Tue, 11 Feb 2025) EndedAt: 2025-02-11 07:35:47 -0500 (Tue, 11 Feb 2025) EllapsedTime: 465.8 seconds RetCode: 0 Status: OK CheckDir: xcore.Rcheck Warnings: 0