Package: xcore Version: 1.10.0 Command: /home/biocbuild/R/R/bin/R CMD build --keep-empty-dirs --no-resave-data xcore StartedAt: 2025-02-11 03:24:05 -0000 (Tue, 11 Feb 2025) EndedAt: 2025-02-11 03:25:53 -0000 (Tue, 11 Feb 2025) EllapsedTime: 108.0 seconds RetCode: 0 Status: OK PackageFile: xcore_1.10.0.tar.gz PackageFileSize: 2.366 MiB