Package: xenLite Version: 1.0.0 Command: /Library/Frameworks/R.framework/Resources/bin/R CMD build --keep-empty-dirs --no-resave-data xenLite StartedAt: 2025-02-10 23:14:37 -0500 (Mon, 10 Feb 2025) EndedAt: 2025-02-10 23:16:31 -0500 (Mon, 10 Feb 2025) EllapsedTime: 114.7 seconds RetCode: 0 Status: OK PackageFile: xenLite_1.0.0.tar.gz PackageFileSize: 3.35 MiB