Package: xenLite Version: 1.0.0 Command: /home/biocbuild/bbs-3.20-bioc/R/bin/R CMD build --keep-empty-dirs --no-resave-data --md5 xenLite StartedAt: 2025-02-10 19:41:23 -0500 (Mon, 10 Feb 2025) EndedAt: 2025-02-10 19:42:15 -0500 (Mon, 10 Feb 2025) EllapsedTime: 52.1 seconds RetCode: 0 Status: OK PackageFile: xenLite_1.0.0.tar.gz PackageFileSize: 3.251 MiB