Package: xenLite Version: 1.0.0 Command: rm -rf xenLite.buildbin-libdir && mkdir xenLite.buildbin-libdir && F:\biocbuild\bbs-3.20-bioc\R\bin\R.exe CMD INSTALL --build --library=xenLite.buildbin-libdir xenLite_1.0.0.tar.gz StartedAt: 2025-02-04 09:46:14 -0500 (Tue, 04 Feb 2025) EndedAt: 2025-02-04 09:47:05 -0500 (Tue, 04 Feb 2025) EllapsedTime: 50.6 seconds RetCode: 0 Status: OK PackageFile: xenLite_1.0.0.zip PackageFileSize: 2.311 MiB