Package: xenLite Version: 1.0.0 Command: /home/biocbuild/R/R/bin/R CMD build --keep-empty-dirs --no-resave-data xenLite StartedAt: 2025-02-04 03:54:22 -0000 (Tue, 04 Feb 2025) EndedAt: 2025-02-04 04:00:02 -0000 (Tue, 04 Feb 2025) EllapsedTime: 339.8 seconds RetCode: 1 Status: ERROR PackageFile: None PackageFileSize: NA