Package: xenLite Version: 1.0.0 Command: /home/biocbuild/R/R/bin/R CMD INSTALL xenLite StartedAt: 2025-02-10 20:41:41 -0000 (Mon, 10 Feb 2025) EndedAt: 2025-02-10 20:42:23 -0000 (Mon, 10 Feb 2025) EllapsedTime: 41.8 seconds RetCode: 0 Status: OK