Package: xmapbridge Version: 1.64.0 Command: /Library/Frameworks/R.framework/Resources/bin/R CMD check --install=check:xmapbridge.install-out.txt --library=/Library/Frameworks/R.framework/Resources/library --no-vignettes --timings xmapbridge_1.64.0.tar.gz StartedAt: 2025-02-05 14:21:45 -0500 (Wed, 05 Feb 2025) EndedAt: 2025-02-05 14:22:18 -0500 (Wed, 05 Feb 2025) EllapsedTime: 32.3 seconds RetCode: 0 Status: OK CheckDir: xmapbridge.Rcheck Warnings: 0