Package: xmapbridge Version: 1.64.0 Command: /Library/Frameworks/R.framework/Resources/bin/R CMD INSTALL xmapbridge StartedAt: 2025-02-10 15:09:48 -0500 (Mon, 10 Feb 2025) EndedAt: 2025-02-10 15:09:52 -0500 (Mon, 10 Feb 2025) EllapsedTime: 3.5 seconds RetCode: 0 Status: OK