Package: xmapbridge Version: 1.64.0 Command: /home/biocbuild/bbs-3.20-bioc/R/bin/R CMD build --keep-empty-dirs --no-resave-data --md5 xmapbridge StartedAt: 2025-02-03 19:49:14 -0500 (Mon, 03 Feb 2025) EndedAt: 2025-02-03 19:49:32 -0500 (Mon, 03 Feb 2025) EllapsedTime: 18.0 seconds RetCode: 0 Status: OK PackageFile: xmapbridge_1.64.0.tar.gz PackageFileSize: 3.022 MiB