Package: xmapbridge Version: 1.64.0 Command: /home/biocbuild/bbs-3.20-bioc/R/bin/R CMD INSTALL xmapbridge StartedAt: 2025-02-10 15:13:57 -0500 (Mon, 10 Feb 2025) EndedAt: 2025-02-10 15:14:03 -0500 (Mon, 10 Feb 2025) EllapsedTime: 5.9 seconds RetCode: 0 Status: OK