Package: xmapbridge Version: 1.64.0 Command: rm -rf xmapbridge.buildbin-libdir && mkdir xmapbridge.buildbin-libdir && F:\biocbuild\bbs-3.20-bioc\R\bin\R.exe CMD INSTALL --build --library=xmapbridge.buildbin-libdir xmapbridge_1.64.0.tar.gz StartedAt: 2025-02-11 09:44:38 -0500 (Tue, 11 Feb 2025) EndedAt: 2025-02-11 09:45:00 -0500 (Tue, 11 Feb 2025) EllapsedTime: 22.1 seconds RetCode: 0 Status: OK PackageFile: xmapbridge_1.64.0.zip PackageFileSize: 1.646 MiB