Package: xmapbridge Version: 1.64.0 Command: /home/biocbuild/R/R/bin/R CMD INSTALL xmapbridge StartedAt: 2025-02-03 20:24:13 -0000 (Mon, 03 Feb 2025) EndedAt: 2025-02-03 20:24:29 -0000 (Mon, 03 Feb 2025) EllapsedTime: 15.5 seconds RetCode: 0 Status: OK