Package: yamss Version: 1.32.0 Command: rm -rf yamss.buildbin-libdir && mkdir yamss.buildbin-libdir && /Users/biocbuild/BBS/utils/build-universal.sh yamss_1.32.0.tar.gz /Library/Frameworks/R.framework/Resources/bin/R yamss.buildbin-libdir StartedAt: 2025-02-05 18:18:24 -0500 (Wed, 05 Feb 2025) EndedAt: 2025-02-05 18:18:59 -0500 (Wed, 05 Feb 2025) EllapsedTime: 34.8 seconds RetCode: 0 Status: OK PackageFile: yamss_1.32.0.tgz PackageFileSize: 731.4 KiB