Package: yamss Version: 1.32.0 Command: /Library/Frameworks/R.framework/Resources/bin/R CMD INSTALL yamss StartedAt: 2025-02-03 16:31:12 -0500 (Mon, 03 Feb 2025) EndedAt: 2025-02-03 16:31:45 -0500 (Mon, 03 Feb 2025) EllapsedTime: 33.0 seconds RetCode: 0 Status: OK