Package: yamss Version: 1.32.0 Command: chmod a+r yamss -R && F:\biocbuild\bbs-3.20-bioc\R\bin\R.exe CMD build --keep-empty-dirs --no-resave-data yamss StartedAt: 2025-02-03 22:51:12 -0500 (Mon, 03 Feb 2025) EndedAt: 2025-02-03 22:55:17 -0500 (Mon, 03 Feb 2025) EllapsedTime: 244.9 seconds RetCode: 0 Status: OK PackageFile: yamss_1.32.0.tar.gz PackageFileSize: 397.3 KiB