Package: yamss Version: 1.32.0 Command: /home/biocbuild/R/R/bin/R CMD build --keep-empty-dirs --no-resave-data yamss StartedAt: 2025-02-04 03:55:39 -0000 (Tue, 04 Feb 2025) EndedAt: 2025-02-04 03:59:43 -0000 (Tue, 04 Feb 2025) EllapsedTime: 244.1 seconds RetCode: 0 Status: OK PackageFile: yamss_1.32.0.tar.gz PackageFileSize: 465.5 KiB