Package: yamss Version: 1.32.0 Command: /home/biocbuild/R/R/bin/R CMD INSTALL yamss StartedAt: 2025-02-03 20:53:53 -0000 (Mon, 03 Feb 2025) EndedAt: 2025-02-03 20:54:26 -0000 (Mon, 03 Feb 2025) EllapsedTime: 33.5 seconds RetCode: 0 Status: OK