Package: yarn Version: 1.32.0 Command: rm -rf yarn.buildbin-libdir && mkdir yarn.buildbin-libdir && /Users/biocbuild/BBS/utils/build-universal.sh yarn_1.32.0.tar.gz /Library/Frameworks/R.framework/Resources/bin/R yarn.buildbin-libdir StartedAt: 2025-02-11 14:48:33 -0500 (Tue, 11 Feb 2025) EndedAt: 2025-02-11 14:50:00 -0500 (Tue, 11 Feb 2025) EllapsedTime: 86.6 seconds RetCode: 0 Status: OK PackageFile: yarn_1.32.0.tgz PackageFileSize: 4.241 MiB