Package: yarn Version: 1.32.0 Command: /Library/Frameworks/R.framework/Resources/bin/R CMD build --keep-empty-dirs --no-resave-data yarn StartedAt: 2025-02-10 23:15:27 -0500 (Mon, 10 Feb 2025) EndedAt: 2025-02-10 23:18:02 -0500 (Mon, 10 Feb 2025) EllapsedTime: 154.6 seconds RetCode: 0 Status: OK PackageFile: yarn_1.32.0.tar.gz PackageFileSize: 2.973 MiB