Package: yarn Version: 1.32.0 Command: /home/biocbuild/R/R/bin/R CMD INSTALL yarn StartedAt: 2025-02-03 21:21:55 -0000 (Mon, 03 Feb 2025) EndedAt: 2025-02-03 21:22:52 -0000 (Mon, 03 Feb 2025) EllapsedTime: 57.2 seconds RetCode: 0 Status: OK