Package: zellkonverter Version: 1.16.0 Command: /Library/Frameworks/R.framework/Resources/bin/R CMD INSTALL zellkonverter StartedAt: 2025-02-03 15:32:04 -0500 (Mon, 03 Feb 2025) EndedAt: 2025-02-03 15:32:15 -0500 (Mon, 03 Feb 2025) EllapsedTime: 11.1 seconds RetCode: 0 Status: OK