Package: zellkonverter Version: 1.16.0 Command: /Library/Frameworks/R.framework/Resources/bin/R CMD build --keep-empty-dirs --no-resave-data zellkonverter StartedAt: 2025-01-30 23:45:57 -0500 (Thu, 30 Jan 2025) EndedAt: 2025-01-30 23:47:54 -0500 (Thu, 30 Jan 2025) EllapsedTime: 116.5 seconds RetCode: 0 Status: OK PackageFile: zellkonverter_1.16.0.tar.gz PackageFileSize: 1.127 MiB