Package: zellkonverter Version: 1.16.0 Command: /Library/Frameworks/R.framework/Resources/bin/R CMD check --install=check:zellkonverter.install-out.txt --library=/Library/Frameworks/R.framework/Resources/library --no-vignettes --timings zellkonverter_1.16.0.tar.gz StartedAt: 2025-01-31 11:53:48 -0500 (Fri, 31 Jan 2025) EndedAt: 2025-01-31 12:05:19 -0500 (Fri, 31 Jan 2025) EllapsedTime: 691.3 seconds RetCode: 0 Status: OK CheckDir: zellkonverter.Rcheck Warnings: 0