Package: zellkonverter Version: 1.16.0 Command: /Library/Frameworks/R.framework/Resources/bin/R CMD INSTALL zellkonverter StartedAt: 2025-01-30 15:22:08 -0500 (Thu, 30 Jan 2025) EndedAt: 2025-01-30 15:22:50 -0500 (Thu, 30 Jan 2025) EllapsedTime: 42.2 seconds RetCode: 0 Status: OK