Package: zellkonverter Version: 1.16.0 Command: /home/biocbuild/bbs-3.20-bioc/R/bin/R CMD INSTALL zellkonverter StartedAt: 2025-02-03 15:22:08 -0500 (Mon, 03 Feb 2025) EndedAt: 2025-02-03 15:22:24 -0500 (Mon, 03 Feb 2025) EllapsedTime: 15.7 seconds RetCode: 0 Status: OK